BEGIN:VCALENDAR
VERSION:2.0
PRODID:-//Tukios.com/
BEGIN:VEVENT
UID:bfd8402f-a445-4ba6-8b87-a2f5bb7f1914@www.bakerfuneralchapel.com
DTSTAMP:20260424T173214Z
DTSTART:20260427T190000Z
DTEND:20260427T230000Z
SUMMARY:Visitation
DESCRIPTION:
URL:https://www.bakerfuneralchapel.com/obituaries/shirley-munoz
LOCATION: 229-231 1st St  Johnstown PA 15909
GEO:40.3475325;-78.8841595
END:VEVENT
END:VCALENDAR