BEGIN:VCALENDAR
VERSION:2.0
PRODID:-//Tukios.com/
BEGIN:VEVENT
UID:37767186-2d12-48a0-8f72-5c911292bb25@www.bakerfuneralchapel.com
DTSTAMP:20260424T172815Z
DTSTART:20260428T150000Z
DTEND:20260428T160000Z
SUMMARY:Funeral Service
DESCRIPTION:
URL:https://www.bakerfuneralchapel.com/obituaries/shirley-munoz
LOCATION: 229-231 1st St  Johnstown PA 15909
GEO:40.3475325;-78.8841595
END:VEVENT
END:VCALENDAR