BEGIN:VCALENDAR
VERSION:2.0
PRODID:-//Tukios.com/
BEGIN:VEVENT
UID:7c4b330b-92cd-4e17-9789-fc229c9b9081@www.bakerfuneralchapel.com
DTSTAMP:20260424T172518Z
DTSTART:20260428T140000Z
DTEND:20260428T150000Z
SUMMARY:Visitation
DESCRIPTION:
URL:https://www.bakerfuneralchapel.com/obituaries/shirley-munoz
LOCATION: 229-231 First Street  Conemaugh PA 15909
GEO:40.3475325;-78.8841595
END:VEVENT
END:VCALENDAR